BEGIN:VCALENDAR
VERSION:2.0
PRODID:-//Talbott&#039;s Cider Company - ECPv6.15.20//NONSGML v1.0//EN
CALSCALE:GREGORIAN
METHOD:PUBLISH
X-WR-CALNAME:Talbott&#039;s Cider Company
X-ORIGINAL-URL:https://talbottsciderco.com
X-WR-CALDESC:Events for Talbott&#039;s Cider Company
REFRESH-INTERVAL;VALUE=DURATION:PT1H
X-Robots-Tag:noindex
X-PUBLISHED-TTL:PT1H
BEGIN:VTIMEZONE
TZID:America/Denver
BEGIN:DAYLIGHT
TZOFFSETFROM:-0700
TZOFFSETTO:-0600
TZNAME:MDT
DTSTART:20250309T090000
END:DAYLIGHT
BEGIN:STANDARD
TZOFFSETFROM:-0600
TZOFFSETTO:-0700
TZNAME:MST
DTSTART:20251102T080000
END:STANDARD
BEGIN:DAYLIGHT
TZOFFSETFROM:-0700
TZOFFSETTO:-0600
TZNAME:MDT
DTSTART:20260308T090000
END:DAYLIGHT
BEGIN:STANDARD
TZOFFSETFROM:-0600
TZOFFSETTO:-0700
TZNAME:MST
DTSTART:20261101T080000
END:STANDARD
BEGIN:DAYLIGHT
TZOFFSETFROM:-0700
TZOFFSETTO:-0600
TZNAME:MDT
DTSTART:20270314T090000
END:DAYLIGHT
BEGIN:STANDARD
TZOFFSETFROM:-0600
TZOFFSETTO:-0700
TZNAME:MST
DTSTART:20271107T080000
END:STANDARD
END:VTIMEZONE
BEGIN:VEVENT
DTSTART;TZID=America/Denver:20260612T180000
DTEND;TZID=America/Denver:20260612T210000
DTSTAMP:20260424T063119
CREATED:20260214T212743Z
LAST-MODIFIED:20260305T171945Z
UID:10000830-1781287200-1781298000@talbottsciderco.com
SUMMARY:Talbott Brothers Band
DESCRIPTION:Get Tickets Here \nThe Talbott Brothers hail from the heartland of Imperial\, Nebraska\, a rural Midwest town near the Colorado and Kansas border. They write songs that feel lived in\, honest and unapologetic\, drawing from their blue collar upbringing and authenticity. Brothers Nick and Ty Talbott have built a name for themselves with their soul stirring lyrics\, sibling blood harmonies\, and rich melodies that represent the ebbs and flows of love\, loss and life. \nTheir music captured the attention of major outlets like\, Rolling Stone who praised their sound as “cinematic folk-rock for open highways\,” Billboard highlighting their “haunting brotherly harmonies\,” and The Boot naming them as a must-listen “for fans of John Mayer\, Mumford & Sons\, and Jason Isbell.” \nThe band’s latest album\, Borderlands\, has been praised by Holler as “raw and unapologetic\,” marking a new chapter that leans into vulnerability\, growth\, and the tension between where you’re from and where you’re headed. With millions of streams\, sold out tours\, and festival appearances across the U.S.\, The Talbott Brothers continue to carve out their own lane\, connecting deeply with audiences who find themselves still figuring things out. \nGet Tickets Here
URL:https://talbottsciderco.com/event/talbott-brothers-band/
LOCATION:Talbott’s Taproom\, 3782 F 1/4 Road\, Palisade\, CO\, 81526\, United States
CATEGORIES:Music
ATTACH;FMTTYPE=image/webp:https://talbottsciderco.com/wp-content/uploads/2026/02/Talbott-Brothers-Band.webp
ORGANIZER;CN="Talbott's Cider":MAILTO:talbottsciderco@gmail.com
END:VEVENT
END:VCALENDAR